BEGIN:VCALENDAR
VERSION:2.0
PRODID:-//FSD Tanzania - ECPv6.15.20//NONSGML v1.0//EN
CALSCALE:GREGORIAN
METHOD:PUBLISH
X-WR-CALNAME:FSD Tanzania
X-ORIGINAL-URL:https://www.fsdt.or.tz
X-WR-CALDESC:Events for FSD Tanzania
REFRESH-INTERVAL;VALUE=DURATION:PT1H
X-Robots-Tag:noindex
X-PUBLISHED-TTL:PT1H
BEGIN:VTIMEZONE
TZID:Africa/Dar_es_Salaam
BEGIN:STANDARD
TZOFFSETFROM:+0300
TZOFFSETTO:+0300
TZNAME:EAT
DTSTART:20240101T000000
END:STANDARD
END:VTIMEZONE
BEGIN:VEVENT
DTSTART;VALUE=DATE:20250219
DTEND;VALUE=DATE:20250220
DTSTAMP:20260426T011217
CREATED:20250425T142541Z
LAST-MODIFIED:20250425T142623Z
UID:8096-1739923200-1740009599@www.fsdt.or.tz
SUMMARY:FSD Network Conference: Advancing Inclusive Finance for Women
DESCRIPTION:FSDT will be participating in the FSD Network Conference\, which brings together FSDs and partners from across Sub-Saharan Africa to share insights and strengthen efforts towards inclusive finance for women. The conference will focus on tackling the structural\, social\, and physical barriers that continue to limit women’s access to finance.  Stay tuned on our social media platforms for key takeaways from this event.
URL:https://www.fsdt.or.tz/event/fsd-network-conference-advancing-inclusive-finance-for-women/
ATTACH;FMTTYPE=image/jpeg:https://www.fsdt.or.tz/wp-content/uploads/2023/01/BU8A6711-scaled.jpg
END:VEVENT
END:VCALENDAR